BEGIN:VCALENDAR
VERSION:2.0
PRODID:-//Age Concern Taranaki - ECPv6.15.20//NONSGML v1.0//EN
CALSCALE:GREGORIAN
METHOD:PUBLISH
X-WR-CALNAME:Age Concern Taranaki
X-ORIGINAL-URL:https://www.ageconcerntaranaki.org.nz
X-WR-CALDESC:Events for Age Concern Taranaki
REFRESH-INTERVAL;VALUE=DURATION:PT1H
X-Robots-Tag:noindex
X-PUBLISHED-TTL:PT1H
BEGIN:VTIMEZONE
TZID:UTC
BEGIN:STANDARD
TZOFFSETFROM:+0000
TZOFFSETTO:+0000
TZNAME:UTC
DTSTART:20250101T000000
END:STANDARD
END:VTIMEZONE
BEGIN:VTIMEZONE
TZID:Pacific/Auckland
BEGIN:STANDARD
TZOFFSETFROM:+1300
TZOFFSETTO:+1200
TZNAME:NZST
DTSTART:20250405T140000
END:STANDARD
BEGIN:DAYLIGHT
TZOFFSETFROM:+1200
TZOFFSETTO:+1300
TZNAME:NZDT
DTSTART:20250927T140000
END:DAYLIGHT
BEGIN:STANDARD
TZOFFSETFROM:+1300
TZOFFSETTO:+1200
TZNAME:NZST
DTSTART:20260404T140000
END:STANDARD
BEGIN:DAYLIGHT
TZOFFSETFROM:+1200
TZOFFSETTO:+1300
TZNAME:NZDT
DTSTART:20260926T140000
END:DAYLIGHT
BEGIN:STANDARD
TZOFFSETFROM:+1300
TZOFFSETTO:+1200
TZNAME:NZST
DTSTART:20270403T140000
END:STANDARD
BEGIN:DAYLIGHT
TZOFFSETFROM:+1200
TZOFFSETTO:+1300
TZNAME:NZDT
DTSTART:20270925T140000
END:DAYLIGHT
END:VTIMEZONE
BEGIN:VEVENT
DTSTART;TZID=UTC:20260428T100000
DTEND;TZID=UTC:20260428T110000
DTSTAMP:20260425T014242
CREATED:20260202T000937Z
LAST-MODIFIED:20260202T000938Z
UID:10001235-1777370400-1777374000@www.ageconcerntaranaki.org.nz
SUMMARY:Aqua Walking Bell Block
DESCRIPTION:Aqua Walking at The Methanex Aquatic Centre! 🌊🚶‍♀️🎶 \nJoin us for fun\, fitness\, and fantastic music at our Aqua Walking sessions! A great way to maintain strength\, improve balance\, and stay active\, all while enjoying the support of the water. \n📍 Location: Methanex Aquatic Centre\, 10 Murray St\, Bell Block\n💰 Cost: $4 per person (pay at pool reception)\n🎵 Move to the BEST music! \nCome along and make a splash! All registrations and enquiries: Call Pauline at 06 757 9196. See you in the pool! 💦😊 \n 
URL:https://www.ageconcerntaranaki.org.nz/event/aqua-walking-bell-block-3/2026-04-28/
LOCATION:Methanex Aquatic Centre\, 10 Murray Street\, New Plymouth\, Bell Block\, 4312\, New Zealand
CATEGORIES:Aqua Walking,Exercise Classes
ORGANIZER;CN="Age Concern Taranaki":MAILTO:info@ageconcerntaranaki.org.nz
END:VEVENT
BEGIN:VEVENT
DTSTART;TZID=UTC:20260428T101500
DTEND;TZID=UTC:20260428T111500
DTSTAMP:20260425T014242
CREATED:20251124T203843Z
LAST-MODIFIED:20251124T203843Z
UID:10001512-1777371300-1777374900@www.ageconcerntaranaki.org.nz
SUMMARY:Steady As You Go - Hawera
DESCRIPTION:10:15 at Presbyterian Centre\, Argyle Street\, Hawera – Every Tuesday excluding public holidays. \nImprove your balance and join a fun loving and happy group.  Bring a water bottle. \nKOHA – Gold coin donation.
URL:https://www.ageconcerntaranaki.org.nz/event/steady-as-you-go-hawera-2/2026-04-28/
LOCATION:Age Concern Taranaki Hawera Office\, Presbyterian Church
CATEGORIES:Exercise Classes,Steady As You Go
END:VEVENT
BEGIN:VEVENT
DTSTART;TZID=UTC:20260428T103000
DTEND;TZID=UTC:20260428T113000
DTSTAMP:20260425T014242
CREATED:20251124T210432Z
LAST-MODIFIED:20251124T210432Z
UID:10001985-1777372200-1777375800@www.ageconcerntaranaki.org.nz
SUMMARY:Steady As You Go - St Mary's Peace Lounge
DESCRIPTION:Steady As You Go – St Mary’s Peace Lounge \nHeld every Tuesday at 10.30am excluding public holidays. \nCost: $3 per session \nTo register or for more information please contact our Steady As You Go Coordinator – Andrea on 06 759 9196 or email info@ageconcerntaranaki.org.nz \n 
URL:https://www.ageconcerntaranaki.org.nz/event/steady-as-you-go-st-marys-peace-lounge-2/2026-04-28/
LOCATION:St Mary’s Peace Lounge\, 37 Vivian Street\, New Plymouth\, 4312\, New Zealand
CATEGORIES:Exercise Classes,Steady As You Go
ORGANIZER;CN="Age Concern Taranaki":MAILTO:info@ageconcerntaranaki.org.nz
END:VEVENT
BEGIN:VEVENT
DTSTART;TZID=Pacific/Auckland:20260428T113000
DTEND;TZID=Pacific/Auckland:20260428T123000
DTSTAMP:20260425T014242
CREATED:20260202T022452Z
LAST-MODIFIED:20260222T213532Z
UID:10002581-1777375800-1777379400@www.ageconcerntaranaki.org.nz
SUMMARY:Men's Group - Hawera
DESCRIPTION:Men’s Group – Monthly Catch-Up \nOur Men’s Group meets once a month in a relaxed and welcoming environment. It’s a chance to connect with other men\, share experiences\, enjoy good conversation\, and build friendships. \nWhether you come along for a chat\, a laugh\, or simply some company\, you’ll always be made to feel welcome. \nEveryone is welcome — no pressure\, just good company and connection. \nContact Richard for this months specific activity. 09 579 9196
URL:https://www.ageconcerntaranaki.org.nz/event/hawera-mens-group/2026-04-28/
LOCATION:Age Concern Taranaki Hawera Office\, Presbyterian Church
CATEGORIES:Men's Group,Social Connection
ORGANIZER;CN="Age Concern Taranaki":MAILTO:info@ageconcerntaranaki.org.nz
END:VEVENT
BEGIN:VEVENT
DTSTART;TZID=UTC:20260429T101500
DTEND;TZID=UTC:20260429T111500
DTSTAMP:20260425T014242
CREATED:20251124T205136Z
LAST-MODIFIED:20251124T205136Z
UID:10001759-1777457700-1777461300@www.ageconcerntaranaki.org.nz
SUMMARY:Steady As You Go - Manaia
DESCRIPTION:Steady As You Go – Manaia \nHeld every Wednesday at 10.15am excluding public holidays. \nGold Coin Donation \nTo register or for more information please contact our Steady As You Go Coordinator Andrea on 06 759 9196 or email info@ageconcerntaranaki.org.nz \n 
URL:https://www.ageconcerntaranaki.org.nz/event/steady-as-you-go-manaia-2/2026-04-29/
LOCATION:Gibson Hall Manaia\, 48 Tauhuri Street\,\, Manaia\, 4612\, New Zealand
CATEGORIES:Exercise Classes,Steady As You Go
ORGANIZER;CN="Age Concern Taranaki":MAILTO:info@ageconcerntaranaki.org.nz
END:VEVENT
BEGIN:VEVENT
DTSTART;TZID=Pacific/Auckland:20260429T101500
DTEND;TZID=Pacific/Auckland:20260429T113000
DTSTAMP:20260425T014242
CREATED:20260202T022025Z
LAST-MODIFIED:20260222T212851Z
UID:10002545-1777457700-1777462200@www.ageconcerntaranaki.org.nz
SUMMARY:Music and Movement - Hawera
DESCRIPTION:Held every Wednesday 10.15am \nCome and enjoy a morning of music and movement with Katrina. \nExercise in a fun and safe environment to great music from the 60’s. \nBring a water bottle. \n$2 per session
URL:https://www.ageconcerntaranaki.org.nz/event/music-and-movement-hawera/2026-04-29/
LOCATION:Age Concern Taranaki Hawera Office\, Presbyterian Church
CATEGORIES:Music Groups,Social Connection
ORGANIZER;CN="Age Concern Taranaki":MAILTO:info@ageconcerntaranaki.org.nz
END:VEVENT
BEGIN:VEVENT
DTSTART;TZID=UTC:20260429T103000
DTEND;TZID=UTC:20260429T113000
DTSTAMP:20260425T014242
CREATED:20251124T204824Z
LAST-MODIFIED:20251124T204824Z
UID:10001673-1777458600-1777462200@www.ageconcerntaranaki.org.nz
SUMMARY:Steady As You Go - Inglewood
DESCRIPTION:Steady As You Go – Inglewood \nHeld every Wednesday at 10.30am excluding public holidays. \nCost $3 \nTo register or for more information please contact our Steady As You Go Coordinator Andrea on 06 759 9196 or email info@ageconcerntaranaki.org.nz \n 
URL:https://www.ageconcerntaranaki.org.nz/event/steady-as-you-go-inglewood-2/2026-04-29/
LOCATION:Inglewood United Church\, 30 Brown Street\, Inglewood\, Taranaki\, New Zealand
CATEGORIES:Exercise Classes,Steady As You Go
ORGANIZER;CN="Age Concern Taranaki":MAILTO:info@ageconcerntaranaki.org.nz
END:VEVENT
BEGIN:VEVENT
DTSTART;TZID=UTC:20260430T093000
DTEND;TZID=UTC:20260430T113000
DTSTAMP:20260425T014242
CREATED:20251124T201757Z
LAST-MODIFIED:20260202T004402Z
UID:10001288-1777541400-1777548600@www.ageconcerntaranaki.org.nz
SUMMARY:Drop In Cafe
DESCRIPTION: Connection\, Conversation & Community! \nJoin us at our Drop-In Café for a warm and welcoming morning of socialising\, laughter\, and great company over a delicious morning tea. \nEvery Thursday 9.30am-11.30am \nMeet new friends\, enjoy engaging conversations\, and hear from inspiring guest speakers. \n                                                                                                                                              
URL:https://www.ageconcerntaranaki.org.nz/event/drop-in-cafe-3/2026-04-30/
LOCATION:Age Concern Taranaki New Plymouth Office\, 33 Liardet Street\, New Plymouth\, 4312\, New Zealand
CATEGORIES:Coffee Morning Groups,Social Connection
ORGANIZER;CN="Age Concern Taranaki":MAILTO:info@ageconcerntaranaki.org.nz
END:VEVENT
BEGIN:VEVENT
DTSTART;TZID=UTC:20260430T100000
DTEND;TZID=UTC:20260430T110000
DTSTAMP:20260425T014242
CREATED:20251124T203614Z
LAST-MODIFIED:20251124T203614Z
UID:10001427-1777543200-1777546800@www.ageconcerntaranaki.org.nz
SUMMARY:Steady As You Go - Eltham
DESCRIPTION:Steady As You Go – Eltham \nHeld every Thursday at 10am excluding public holidays. \nCost: $3 per session \nTo register or for more information please contact our Steady As You Go Coordinator Andrea on 06 759 9196 or email info@ageconcerntaranaki.org.nz \n 
URL:https://www.ageconcerntaranaki.org.nz/event/steady-as-you-go-eltham-2/2026-04-30/
LOCATION:All Saints Anglican Church\, 88 King Edward Street\, Eltham\, New Zealand
CATEGORIES:Steady As You Go
ORGANIZER;CN="Age Concern Taranaki":MAILTO:info@ageconcerntaranaki.org.nz
END:VEVENT
BEGIN:VEVENT
DTSTART;TZID=UTC:20260430T103000
DTEND;TZID=UTC:20260430T120000
DTSTAMP:20260425T014242
CREATED:20260202T001747Z
LAST-MODIFIED:20260202T001747Z
UID:10002337-1777545000-1777550400@www.ageconcerntaranaki.org.nz
SUMMARY:Camelia Cafe / Coffee Morning
DESCRIPTION:10:30 at Presbyterian Centre\, Argyle Street\, Hawera – Drop in\, make friends\, socialise and take part in robust discussions. \nKOHA – Gold coin donation. \n  \nPhone us to check in which dates we have Guest Speakers \n 
URL:https://www.ageconcerntaranaki.org.nz/event/camelia-cafe-coffee-morning-2/2026-04-30/
LOCATION:Age Concern Taranaki Hawera Office\, Presbyterian Church
CATEGORIES:Coffee Morning Groups,Social Connection
END:VEVENT
BEGIN:VEVENT
DTSTART;TZID=UTC:20260430T133000
DTEND;TZID=UTC:20260430T143000
DTSTAMP:20260425T014242
CREATED:20251124T220615Z
LAST-MODIFIED:20251124T220615Z
UID:10002240-1777555800-1777559400@www.ageconcerntaranaki.org.nz
SUMMARY:Aqua Walking Stratford
DESCRIPTION:Aqua Walking at Wai O Rua Stratford Aquatic Centre! 🌊🚶‍♀️🎶 \nJoin us for fun\, fitness\, and fantastic music at our Aqua Walking sessions! A great way to maintain strength\, improve balance\, and stay active\, all while enjoying the support of the water. \nEvery Thursday excluding School Holidays \n📍 Location: Wai O Rua Stratford Aquatic Centre\, 53 Portia Street  St\, Stratford\n💰 Cost: $6 (Adult) $5 (senior) per person (pay at pool reception)\n🎵 Move to the BEST music! \nCome along and make a splash! All registrations and inquiries: Call Julie at 027 264 3086. See you in the pool! 💦😊 \n 
URL:https://www.ageconcerntaranaki.org.nz/event/aqua-walking-stratford-3/2026-04-30/
LOCATION:Wai O Rua Stratford Aquatic Centre\, 53 Portia Street\, Stratford\, New Zealand
CATEGORIES:Aqua Walking,Exercise Classes
ORGANIZER;CN="Age Concern Taranaki":MAILTO:info@ageconcerntaranaki.org.nz
END:VEVENT
END:VCALENDAR